BEGIN:VCALENDAR
VERSION:2.0
PRODID:-//松代文化ホール - ECPv5.11.0//NONSGML v1.0//EN
CALSCALE:GREGORIAN
METHOD:PUBLISH
X-WR-CALNAME:松代文化ホール
X-ORIGINAL-URL:https://matsushiro-bunka.jp
X-WR-CALDESC:松代文化ホール のイベント
BEGIN:VTIMEZONE
TZID:Asia/Tokyo
BEGIN:STANDARD
TZOFFSETFROM:+0900
TZOFFSETTO:+0900
TZNAME:JST
DTSTART:20200101T000000
END:STANDARD
END:VTIMEZONE
BEGIN:VEVENT
DTSTART;TZID=Asia/Tokyo:20201227T140000
DTEND;TZID=Asia/Tokyo:20201227T163000
DTSTAMP:20260421T175201
CREATED:20201001T000048Z
LAST-MODIFIED:20200924T042632Z
UID:792-1609077600-1609086600@matsushiro-bunka.jp
SUMMARY:TSUKEMEN CONCERT 2020　JITAN CLASSIC
DESCRIPTION:
URL:https://matsushiro-bunka.jp/schedule/tsukemen-concert-2020%e3%80%80jitan-classic-2/
END:VEVENT
END:VCALENDAR