BEGIN:VCALENDAR
VERSION:2.0
PRODID:-//松代文化ホール - ECPv5.11.0//NONSGML v1.0//EN
CALSCALE:GREGORIAN
METHOD:PUBLISH
X-WR-CALNAME:松代文化ホール
X-ORIGINAL-URL:https://matsushiro-bunka.jp
X-WR-CALDESC:松代文化ホール のイベント
BEGIN:VTIMEZONE
TZID:Asia/Tokyo
BEGIN:STANDARD
TZOFFSETFROM:+0900
TZOFFSETTO:+0900
TZNAME:JST
DTSTART:20250101T000000
END:STANDARD
END:VTIMEZONE
BEGIN:VEVENT
DTSTART;TZID=Asia/Tokyo:20250518T150000
DTEND;TZID=Asia/Tokyo:20250518T160000
DTSTAMP:20260422T175131
CREATED:20250207T014542Z
LAST-MODIFIED:20250207T014542Z
UID:4292-1747580400-1747584000@matsushiro-bunka.jp
SUMMARY:ヨガ教室（練習室）
DESCRIPTION:
URL:https://matsushiro-bunka.jp/schedule/%e3%83%a8%e3%82%ac%e6%95%99%e5%ae%a4%ef%bc%88%e7%b7%b4%e7%bf%92%e5%ae%a4%ef%bc%89/
END:VEVENT
END:VCALENDAR