BEGIN:VCALENDAR
VERSION:2.0
PRODID:-//松代文化ホール - ECPv5.11.0//NONSGML v1.0//EN
CALSCALE:GREGORIAN
METHOD:PUBLISH
X-WR-CALNAME:松代文化ホール
X-ORIGINAL-URL:https://matsushiro-bunka.jp
X-WR-CALDESC:松代文化ホール のイベント
BEGIN:VTIMEZONE
TZID:Asia/Tokyo
BEGIN:STANDARD
TZOFFSETFROM:+0900
TZOFFSETTO:+0900
TZNAME:JST
DTSTART:20240101T000000
END:STANDARD
END:VTIMEZONE
BEGIN:VEVENT
DTSTART;TZID=Asia/Tokyo:20240324T100000
DTEND;TZID=Asia/Tokyo:20240324T170000
DTSTAMP:20260423T202205
CREATED:20231228T052845Z
LAST-MODIFIED:20240205T010657Z
UID:3302-1711274400-1711299600@matsushiro-bunka.jp
SUMMARY:ご利用があります
DESCRIPTION:
URL:https://matsushiro-bunka.jp/schedule/%e3%82%ab%e3%83%a9%e3%82%aa%e3%82%b1%e7%99%ba%e8%a1%a8%e4%bc%9a-2/
END:VEVENT
END:VCALENDAR