BEGIN:VCALENDAR
VERSION:2.0
PRODID:-//松代文化ホール - ECPv5.11.0//NONSGML v1.0//EN
CALSCALE:GREGORIAN
METHOD:PUBLISH
X-WR-CALNAME:松代文化ホール
X-ORIGINAL-URL:https://matsushiro-bunka.jp
X-WR-CALDESC:松代文化ホール のイベント
BEGIN:VTIMEZONE
TZID:Asia/Tokyo
BEGIN:STANDARD
TZOFFSETFROM:+0900
TZOFFSETTO:+0900
TZNAME:JST
DTSTART:20230101T000000
END:STANDARD
END:VTIMEZONE
BEGIN:VEVENT
DTSTART;TZID=Asia/Tokyo:20230518T100000
DTEND;TZID=Asia/Tokyo:20230518T160000
DTSTAMP:20260424T002229
CREATED:20230403T022052Z
LAST-MODIFIED:20230403T022052Z
UID:2687-1684404000-1684425600@matsushiro-bunka.jp
SUMMARY:ウイッグユキ　展示会　（展示ホール）
DESCRIPTION:
URL:https://matsushiro-bunka.jp/schedule/%e3%82%a6%e3%82%a4%e3%83%83%e3%82%b0%e3%83%a6%e3%82%ad%e3%80%80%e5%b1%95%e7%a4%ba%e4%bc%9a%e3%80%80%ef%bc%88%e5%b1%95%e7%a4%ba%e3%83%9b%e3%83%bc%e3%83%ab%ef%bc%89/
END:VEVENT
END:VCALENDAR