BEGIN:VCALENDAR
VERSION:2.0
PRODID:-//松代文化ホール - ECPv5.11.0//NONSGML v1.0//EN
CALSCALE:GREGORIAN
METHOD:PUBLISH
X-WR-CALNAME:松代文化ホール
X-ORIGINAL-URL:https://matsushiro-bunka.jp
X-WR-CALDESC:松代文化ホール のイベント
BEGIN:VTIMEZONE
TZID:Asia/Tokyo
BEGIN:STANDARD
TZOFFSETFROM:+0900
TZOFFSETTO:+0900
TZNAME:JST
DTSTART:20250101T000000
END:STANDARD
END:VTIMEZONE
BEGIN:VEVENT
DTSTART;TZID=Asia/Tokyo:20250518T130000
DTEND;TZID=Asia/Tokyo:20250518T160000
DTSTAMP:20260421T194335
CREATED:20241226T051639Z
LAST-MODIFIED:20241226T051639Z
UID:4063-1747573200-1747584000@matsushiro-bunka.jp
SUMMARY:アンサンブルコンサート
DESCRIPTION:
URL:https://matsushiro-bunka.jp/schedule/%e3%82%a2%e3%83%b3%e3%82%b5%e3%83%b3%e3%83%96%e3%83%ab%e3%82%b3%e3%83%b3%e3%82%b5%e3%83%bc%e3%83%88/
END:VEVENT
END:VCALENDAR