BEGIN:VCALENDAR
VERSION:2.0
PRODID:-//松代文化ホール - ECPv5.11.0//NONSGML v1.0//EN
CALSCALE:GREGORIAN
METHOD:PUBLISH
X-WR-CALNAME:松代文化ホール
X-ORIGINAL-URL:https://matsushiro-bunka.jp
X-WR-CALDESC:松代文化ホール のイベント
BEGIN:VTIMEZONE
TZID:Asia/Tokyo
BEGIN:STANDARD
TZOFFSETFROM:+0900
TZOFFSETTO:+0900
TZNAME:JST
DTSTART:20250101T000000
END:STANDARD
END:VTIMEZONE
BEGIN:VEVENT
DTSTART;TZID=Asia/Tokyo:20250202T130000
DTEND;TZID=Asia/Tokyo:20250202T153000
DTSTAMP:20260422T211723
CREATED:20241124T022519Z
LAST-MODIFIED:20250127T082746Z
UID:3962-1738501200-1738510200@matsushiro-bunka.jp
SUMMARY:バレンタインのキャンドルアート（練習室）
DESCRIPTION:バレンタインのキャンドルアート（定員になりました） \n日時：2025年2月2日（日）　①13:00~14:00　②14:30~15:30 \n会場：練習室 \n対象：どなたでも \n参加費：2\,000円 \n定員：各回8人（先着順） \nお申込、お問合せ：松代文化ホール　電話　026-278-4373
URL:https://matsushiro-bunka.jp/schedule/%e3%81%94%e5%88%a9%e7%94%a8%e3%81%8c%e3%81%82%e3%82%8a%e3%81%be%e3%81%99-236/
END:VEVENT
END:VCALENDAR